BEGIN:VCALENDAR
VERSION:2.0
PRODID:-//Contratero//ES
CALSCALE:GREGORIAN
METHOD:PUBLISH
BEGIN:VEVENT
UID:FMV/SG NO SARA P. AB. 07/2022@contratero.es
DTSTAMP:20260420T104440Z
DTSTART:20221114T235959
DTEND:20221115T005959
SUMMARY:Cierre: Contratación del servicio de soporte microinformát
DESCRIPTION:Contratación del servicio de soporte microinformático y mantenimiento de servidores de la Fundación Marqués de Valdecilla\, expediente FMV/SG/ NO SARA P. AB. 07/2022.\\n\\nOrganismo: Gerencia de la Fundación Marqués de Valdecilla\\n\\nVer en Contratero: https://contratero.es/contracts/FMV/SG NO SARA P. AB. 07/2022
URL:https://contratero.es/contracts/FMV/SG NO SARA P. AB. 07/2022
STATUS:CONFIRMED
BEGIN:VALARM
TRIGGER:-P1D
ACTION:DISPLAY
DESCRIPTION:Recordatorio: Contratación del servicio de s
END:VALARM
END:VEVENT
END:VCALENDAR